BEGIN:VCALENDAR
VERSION:2.0
PRODID:-//Alabama Democratic Conference - ECPv6.15.1.1//NONSGML v1.0//EN
CALSCALE:GREGORIAN
METHOD:PUBLISH
X-ORIGINAL-URL:https://theadc.org
X-WR-CALDESC:Events for Alabama Democratic Conference
REFRESH-INTERVAL;VALUE=DURATION:PT1H
X-Robots-Tag:noindex
X-PUBLISHED-TTL:PT1H
BEGIN:VTIMEZONE
TZID:UTC
BEGIN:STANDARD
TZOFFSETFROM:+0000
TZOFFSETTO:+0000
TZNAME:UTC
DTSTART:20230101T000000
END:STANDARD
END:VTIMEZONE
BEGIN:VEVENT
DTSTART;TZID=UTC:20230803T170000
DTEND;TZID=UTC:20230803T190000
DTSTAMP:20260423T172605
CREATED:20230802T163600Z
LAST-MODIFIED:20230802T163600Z
UID:661-1691082000-1691089200@theadc.org
SUMMARY:Candidate Screenings
DESCRIPTION:
URL:https://theadc.org/event/candidatescreenings/
LOCATION:ADC\, 424 S. Decatur Street\, Montgomery\, AL\, 36104\, United States
END:VEVENT
END:VCALENDAR